Workbook

Sheet 📊 Dashboard
B1: ABSF KPI DASHBOARD — APPLIANCE SERVICE PERFORMANCE OVERVIEW
B2: Appliance GrandMasters · Powered by ABSF · JourneyToCEO.com
B3: ▶ Enter weekly data in the 'Weekly Data' tab. This dashboard updates automatically.
B5: WEEKLY REVENUE | C5: FIRST-CALL RATE | D5: CALLBACK RATE | E5: AVG TICKET | F5: JOBS/TECH/DAY | G5: MISSED CALL RATE | H5: NEW REVIEWS
B6: ='Weekly Data'!C3 -> 56200 | C6: ='Weekly Data'!E3 -> 0.72 | D6: ='Weekly Data'!F3 -> 0.048 | E6: ='Weekly Data'!D3 -> 285 | F6: ='Weekly Data'!G3 -> 4.2 | G6: ='Weekly Data'!I3 -> 0.008 | H6: ='Weekly Data'!J3 -> 6
B7: Target: See P&L | C7: Target: ≥ 70% | D7: Target: < 5% | E7: Target: See Pricing | F7: Target: ≥ 4.0 | G7: Target: < 1% | H7: Target: ≥ 5/week
B10: 📈 12-WEEK PERFORMANCE TREND
B11: WEEK ENDING | C11: REVENUE | D11: FIRST-CALL % | E11: CALLBACK % | F11: AVG TICKET | G11: JOBS/TECH | H11: REVIEWS
B12: ='Weekly Data'!B3 -> 46083 | C12: ='Weekly Data'!C3 -> 56200 | D12: ='Weekly Data'!E3 -> 0.72 | E12: ='Weekly Data'!F3 -> 0.048 | F12: ='Weekly Data'!D3 -> 285 | G12: ='Weekly Data'!G3 -> 4.2 | H12: ='Weekly Data'!I3 -> 0.008
B13: ='Weekly Data'!B4 -> 2025-01-06 | C13: ='Weekly Data'!C4 -> 4850 | D13: ='Weekly Data'!E4 -> 0.71 | E13: ='Weekly Data'!F4 -> 0.052 | F13: ='Weekly Data'!D4 -> 275 | G13: ='Weekly Data'!G4 -> 4.1 | H13: ='Weekly Data'!I4 -> 0.01
B14: ='Weekly Data'!B5 -> 2025-01-13 | C14: ='Weekly Data'!C5 -> 5100 | D14: ='Weekly Data'!E5 -> 0.73 | E14: ='Weekly Data'!F5 -> 0.045 | F14: ='Weekly Data'!D5 -> 290 | G14: ='Weekly Data'!G5 -> 4.3 | H14: ='Weekly Data'!I5 -> 0.008
B15: ='Weekly Data'!B6 -> 2025-01-20 | C15: ='Weekly Data'!C6 -> 4700 | D15: ='Weekly Data'!E6 -> 0.69 | E15: ='Weekly Data'!F6 -> 0.058 | F15: ='Weekly Data'!D6 -> 268 | G15: ='Weekly Data'!G6 -> 3.9 | H15: ='Weekly Data'!I6 -> 0.012
B16: ='Weekly Data'!B7 -> 2025-01-27 | C16: ='Weekly Data'!C7 -> 5300 | D16: ='Weekly Data'!E7 -> 0.74 | E16: ='Weekly Data'!F7 -> 0.042 | F16: ='Weekly Data'!D7 -> 298 | G16: ='Weekly Data'!G7 -> 4.4 | H16: ='Weekly Data'!I7 -> 0.007
B17: ='Weekly Data'!B8 -> 2025-02-03 | C17: ='Weekly Data'!C8 -> 4900 | D17: ='Weekly Data'!E8 -> 0.7 | E17: ='Weekly Data'!F8 -> 0.05 | F17: ='Weekly Data'!D8 -> 280 | G17: ='Weekly Data'!G8 -> 4 | H17: ='Weekly Data'!I8 -> 0.009
B18: ='Weekly Data'!B9 -> 2025-02-10 | C18: ='Weekly Data'!C9 -> 5200 | D18: ='Weekly Data'!E9 -> 0.72 | E18: ='Weekly Data'!F9 -> 0.046 | F18: ='Weekly Data'!D9 -> 295 | G18: ='Weekly Data'!G9 -> 4.2 | H18: ='Weekly Data'!I9 -> 0.008
B19: ='Weekly Data'!B10 -> 2025-02-17 | C19: ='Weekly Data'!C10 -> 5400 | D19: ='Weekly Data'!E10 -> 0.75 | E19: ='Weekly Data'!F10 -> 0.04 | F19: ='Weekly Data'!D10 -> 305 | G19: ='Weekly Data'!G10 -> 4.5 | H19: ='Weekly Data'!I10 -> 0.006
B20: ='Weekly Data'!B11 -> 2025-02-24 | C20: ='Weekly Data'!C11 -> 5000 | D20: ='Weekly Data'!E11 -> 0.71 | E20: ='Weekly Data'!F11 -> 0.049 | F20: ='Weekly Data'!D11 -> 285 | G20: ='Weekly Data'!G11 -> 4.1 | H20: ='Weekly Data'!I11 -> 0.01
B21: ='Weekly Data'!B12 -> 2025-03-03 | C21: ='Weekly Data'!C12 -> 5150 | D21: ='Weekly Data'!E12 -> 0.73 | E21: ='Weekly Data'!F12 -> 0.044 | F21: ='Weekly Data'!D12 -> 292 | G21: ='Weekly Data'!G12 -> 4.3 | H21: ='Weekly Data'!I12 -> 0.008
B22: ='Weekly Data'!B13 -> 2025-03-10 | C22: ='Weekly Data'!C13 -> 5350 | D22: ='Weekly Data'!E13 -> 0.74 | E22: ='Weekly Data'!F13 -> 0.043 | F22: ='Weekly Data'!D13 -> 300 | G22: ='Weekly Data'!G13 -> 4.4 | H22: ='Weekly Data'!I13 -> 0.007
B23: ='Weekly Data'!B14 -> 2025-03-17 | C23: ='Weekly Data'!C14 -> 5250 | D23: ='Weekly Data'!E14 -> 0.72 | E23: ='Weekly Data'!F14 -> 0.047 | F23: ='Weekly Data'!D14 -> 296 | G23: ='Weekly Data'!G14 -> 4.2 | H23: ='Weekly Data'!I14 -> 0.009
B24: 12-WEEK AVERAGE | C24: =AVERAGE(C12:C23) -> 9366.6667 | D24: =AVERAGE(D12:D23) -> 0.72166667 | E24: =AVERAGE(E12:E23) -> 0.047 | F24: =AVERAGE(F12:F23) -> 289.08333 | G24: =AVERAGE(G12:G23) -> 4.2166667 | H24: =SUM(H12:H23) -> 0.102
B26: ABSF Pillar 2: Visibility · Appliance GrandMasters (AGM) · Developed by Will Toro · JourneyToCEO.com · © 2025

Sheet Weekly Data
B1: 📋 WEEKLY KPI DATA ENTRY — Enter actual numbers each Monday
B2: WEEK ENDING DATE | C2: TOTAL REVENUE ($) | D2: AVG TICKET ($) | E2: FIRST-CALL RATE % | F2: CALLBACK RATE % | G2: JOBS / TECH / DAY | H2: PARTS DELAY RATE % | I2: MISSED CALL RATE % | J2: NEW GOOGLE REVIEWS
B3: =TODAY()-WEEKDAY(TODAY(),2)+1 -> 46083 | C3: =SUM(C4:C14) -> 56200 | D3: 285 | E3: 0.72 | F3: 0.048 | G3: 4.2 | H3: 0.03 | I3: 0.008 | J3: 6
B4: 2025-01-06 | C4: 4850 | D4: 275 | E4: 0.71 | F4: 0.052 | G4: 4.1 | H4: 0.035 | I4: 0.01 | J4: 5
B5: 2025-01-13 | C5: 5100 | D5: 290 | E5: 0.73 | F5: 0.045 | G5: 4.3 | H5: 0.028 | I5: 0.008 | J5: 7
B6: 2025-01-20 | C6: 4700 | D6: 268 | E6: 0.69 | F6: 0.058 | G6: 3.9 | H6: 0.04 | I6: 0.012 | J6: 4
B7: 2025-01-27 | C7: 5300 | D7: 298 | E7: 0.74 | F7: 0.042 | G7: 4.4 | H7: 0.025 | I7: 0.007 | J7: 8
B8: 2025-02-03 | C8: 4900 | D8: 280 | E8: 0.7 | F8: 0.05 | G8: 4 | H8: 0.032 | I8: 0.009 | J8: 5
B9: 2025-02-10 | C9: 5200 | D9: 295 | E9: 0.72 | F9: 0.046 | G9: 4.2 | H9: 0.03 | I9: 0.008 | J9: 6
B10: 2025-02-17 | C10: 5400 | D10: 305 | E10: 0.75 | F10: 0.04 | G10: 4.5 | H10: 0.022 | I10: 0.006 | J10: 9
B11: 2025-02-24 | C11: 5000 | D11: 285 | E11: 0.71 | F11: 0.049 | G11: 4.1 | H11: 0.034 | I11: 0.01 | J11: 5
B12: 2025-03-03 | C12: 5150 | D12: 292 | E12: 0.73 | F12: 0.044 | G12: 4.3 | H12: 0.027 | I12: 0.008 | J12: 7
B13: 2025-03-10 | C13: 5350 | D13: 300 | E13: 0.74 | F13: 0.043 | G13: 4.4 | H13: 0.026 | I13: 0.007 | J13: 8
B14: 2025-03-17 | C14: 5250 | D14: 296 | E14: 0.72 | F14: 0.047 | G14: 4.2 | H14: 0.029 | I14: 0.009 | J14: 6
B16: AGM TARGET BENCHMARKS | C16: — | D16: $280+ | E16: ≥ 70% | F16: < 5% | G16: ≥ 4.0 | H16: < 3% | I16: < 1% | J16: ≥ 5
B18: ℹ INSTRUCTIONS: Blue cells = data you enter. Enter one row per week. Dashboard tab updates automatically. Do not delete rows 3–14.

Sheet Technician Scorecard
B1: 👨‍🔧 TECHNICIAN PERFORMANCE SCORECARD
B2: Track individual technician KPIs weekly · Compare against AGM targets
B4: TECHNICIAN | C4: JOBS DONE | D4: REVENUE ($) | E4: AVG TICKET | F4: FIRST-CALL % | G4: CALLBACK RATE | H4: CALLBACKS (#) | I4: RATING (1-5) | J4: NOTES
B5: Technician 1 | C5: 22 | D5: 5800 | E5: =D5/C5 -> 263.63636 | F5: 0.73 | G5: =E5/C5 -> 11.983471 | H5: =ROUND(F5*C5,0) -> 16 | I5: 4.8 | J5: Strong first-call performance
B6: Technician 2 | C6: 19 | D6: 5100 | E6: =D6/C6 -> 268.42105 | F6: 0.68 | G6: =E6/C6 -> 14.127424 | H6: =ROUND(F6*C6,0) -> 13 | I6: 4.5 | J6: Needs parts prep improvement
B7: Technician 3 | C7: 21 | D7: 5500 | E7: =D7/C7 -> 261.90476 | F7: 0.71 | G7: =E7/C7 -> 12.471655 | H7: =ROUND(F7*C7,0) -> 15 | I7: 4.7 | J7: Consistent performer
B8: Technician 4 | C8: 18 | D8: 4800 | E8: =D8/C8 -> 266.66667 | F8: 0.65 | G8: =E8/C8 -> 14.814815 | H8: =ROUND(F8*C8,0) -> 12 | I8: 4.3 | J8: Coach on diagnosis speed
B9: Technician 5 | C9: 20 | D9: 5200 | E9: =D9/C9 -> 260 | F9: 0.7 | G9: =E9/C9 -> 13 | H9: =ROUND(F9*C9,0) -> 14 | I9: 4.6 | J9: On target all metrics
B10: TEAM TOTAL / AVG | C10: =SUM(C5:C9) -> 100 | D10: =SUM(D5:D9) -> 26400 | E10: =AVERAGE(E5:E9) -> 264.12577 | F10: =AVERAGE(F5:F9) -> 0.694 | G10: =AVERAGE(G5:G9) -> 13.279473 | H10: =SUM(H5:H9) -> 70 | I10: =AVERAGE(I5:I9) -> 4.58
B11: AGM TARGETS | C11: ≥ 20/wk | D11: — | E11: ≥ $280 | F11: ≥ 70% | G11: < 5% | H11: — | I11: ≥ 4.5

Sheet Callback Tracker
B1: 🔄 CALLBACK QUALITY CONTROL LOG
B3: DATE | C3: JOB # | D3: APPLIANCE / ISSUE | E3: TECHNICIAN | F3: ROOT CAUSE | G3: CORRECTIVE ACTION | H3: PREVENTION SOP | I3: RESOLVED? | J3: COST IMPACT
B4: 01/06/2025 | C4: JOB-1042 | D4: Whirlpool Washer / Drain Pump | E4: Tech 1 | F4: Wrong part ordered — OEM vs aftermarket mismatch | G4: Updated parts lookup SOP to verify OEM model cross-reference before ordering | H4: SOP-03 Parts Ordering | I4: Yes | J4: $85
B5: 01/13/2025 | C5: JOB-1087 | D5: GE Dishwasher / Control Board | E5: Tech 3 | F5: Incomplete diagnostic — only tested one symptom | G5: Reinforced 5-step diagnostic checklist in morning huddle | H5: SOP-02 Diagnostic Workflow | I5: Yes | J5: $120
B6: 01/27/2025 | C6: JOB-1124 | D6: LG Refrigerator / Compressor | E6: Tech 2 | F6: Customer did not receive usage instructions | G6: Added appliance-specific usage handout to job close checklist | H6: SOP-04 Job Close | I6: Yes | J6: $0
B7: 02/10/2025 | C7: JOB-1198 | D7: Samsung Dryer / Thermal Fuse | E7: Tech 4 | F7: Root cause not addressed — symptom only | G7: Coaching session completed, now testing full heating circuit | H7: SOP-02 Diagnostic Workflow | I7: Yes | J7: $95
B8: 02/24/2025 | C8: JOB-1231 | D8: KitchenAid Oven / Igniter | E8: Tech 1 | F8: Part failed within warranty period — defective part | G8: Switched to preferred OEM supplier for igniters | H8: SOP-03 Parts Ordering | I8: Yes | J8: $110
B11: CALLBACK SUMMARY
B12: Total Callbacks Logged | C12: =COUNTA(B4:B8) -> 5 | D12: Resolved | E12: =COUNTIF(I4:I8,"Yes") -> 5 | F12: Open | G12: =COUNTIF(I4:I8,"No") -> 0 | H12: Resolution Rate | I12: =IF(C12=0,"N/A",E12/C12) -> 1
